{"text_format":"1","workbook":"xlsx","n_sheets":3,"sheets":["申込み","変更","行集約"],"not_rendered":{"charts":0,"images":0,"macros":1,"external_links":2,"defined_names":76,"comments":2,"pivot_tables":0},"unopened":[],"bounds":{"document_bytes":16777216,"sheet_cells":100000,"rows_first":2000,"rows_last":500,"rows_between":2000,"halvings":0,"cell_chars":16384,"cell_head_chars":4096},"cells_cut":0,"cells_raw":0,"read":"whole","date_system":"1900"}

{"sheet":"申込み","index":0,"n_rows":60,"n_cols":41,"rows_kept":60,"cut":false,"hidden":false,"merged":[[11,7,11,8],[1,1,1,9],[3,5,3,9],[5,5,5,9],[6,3,6,8],[10,4,10,9],[13,1,13,2],[13,6,13,8],[22,4,22,9],[23,7,23,8],[25,1,25,2],[25,6,25,8],[51,1,51,2],[51,6,51,8],[35,4,35,9],[36,7,36,8],[38,1,38,2],[38,6,38,8],[48,4,48,9],[49,7,49,8]]}
[]
[null,"　　　　第３３回 楮川ダム駅伝競走大会  申込み"]
[]
[null,"１．申込日："]
[null,"２．代表者",null,null,"　　　　　　　　       　  　　　　　　　　　　　","（e-mailは今後のご案内等に必要となります）"]
[null,null,"氏名：",null,"　e-mail ",null,null,null,null,null,null,"男"]
[null,null,"住所：",null,null,null,null,null,null,null,null,"女"]
[null,null,"Tel："]
[]
[null,"３．登録選手名および宣言タイム 　"]
[null,"　チーム名",null,null,null,null,null,null,null,null,null,null,{"$f":"K11","v":0},{"$f":"D11","v":0},{"$f":"D15","v":0},{"$f":"G15","v":0},{"$f":"H15*100+I15","v":0},{"$f":"D16","v":0},{"$f":"G16","v":0},{"$f":"H16*100+I16","v":0},{"$f":"D17","v":0},{"$f":"G17","v":0},{"$f":"H17*100+I17","v":0},{"$f":"D18","v":0},{"$f":"G18","v":0},{"$f":"H18*100+I18","v":0},{"$f":"D19","v":0},{"$f":"G19","v":0},{"$f":"H19*100+I19","v":0},null,{"$f":"C11","v":0},{"$f":"D11","v":0},{"$f":"$D$6","v":0},{"$f":"$D$7","v":0},{"$f":"$D$8","v":0},{"$f":"$F$6","v":0},{"$f":"F15","v":0},{"$f":"F16","v":0},{"$f":"F17","v":0},{"$f":"F18","v":0},{"$f":"F19","v":0}]
[null,"区間","距離","選手名","選手名","性別","年齢","宣言ﾀｲﾑ",null,"（宣言ﾀｲﾑ）","ﾁｰﾑNo\n(主催者用)"]
[null,null,"Km","（漢字）","（フリガナ or ふりがな）","男/女","歳","分","秒"]
[null,null,null,"漢字で入力","手動で入力ください",null,"半角数値で入力"]
[null,"１区",7.11,null,null,null,null,null,null,{"$f":"IF(H15<>\"\",H15&\":\"&I15,\"\")","v":""}]
[null,"２区",4.74,null,null,null,null,null,null,{"$f":"IF(H16<>\"\",H16&\":\"&I16,\"\")","v":""}]
[null,"３区",2.37,null,null,null,null,null,null,{"$f":"IF(H17<>\"\",H17&\":\"&I17,\"\")","v":""}]
[null,"４区",4.74,null,null,null,null,null,null,{"$f":"IF(H18<>\"\",H18&\":\"&I18,\"\")","v":""}]
[null,"５区",4.74,null,null,null,null,null,null,{"$f":"IF(H19<>\"\",H19&\":\"&I19,\"\")","v":""}]
[null,null,null,null,null,null,null,null,null,{"$f":"60*SUM(H15:H19)+SUM(I15:I19)","v":0}]
[null,"区間計",{"$f":"SUM(C15:C19)","v":23.700000000000003},null,null,null,{"$f":"IF(G15=\"\",\"\",SUM(G15:G19))","v":""},null,null,{"$f":"IF($H15=\"\",\"\",INT(INT($J20/3600))&\":\"&INT(($J20-(INT($J20/3600))*3600)/60)&\":\"&($J20-(INT($J20/3600))*3600)-(INT(($J20-(INT($J20/3600))*3600)/60))*60)","v":""}]
[null,null,null,null,null,null,null,null,null,null,null,null,"No","チーム名","氏名","Y1","宣言ﾀｲﾑ","氏名","Y2","宣言ﾀｲﾑ","氏名","Y3","宣言ﾀｲﾑ","氏名","Y4","宣言ﾀｲﾑ","氏名","Y5","宣言ﾀｲﾑ",null,"No","チーム名","代表者名","住所","電話","e-mail","s1","s2","s3","s4","s5"]
[null,"　チーム名",null,null,null,null,null,null,null,null,null,null,{"$f":"K23","v":0},{"$f":"D23","v":0},{"$f":"D27","v":0},{"$f":"G27","v":0},{"$f":"H27*100+I27","v":0},{"$f":"D28","v":0},{"$f":"G28","v":0},{"$f":"H28*100+I28","v":0},{"$f":"D29","v":0},{"$f":"G29","v":0},{"$f":"H29*100+I29","v":0},{"$f":"D30","v":0},{"$f":"G30","v":0},{"$f":"H30*100+I30","v":0},{"$f":"D31","v":0},{"$f":"G31","v":0},{"$f":"H31*100+I31","v":0},null,{"$f":"C23","v":0},{"$f":"D23","v":0},{"$f":"$D$6","v":0},{"$f":"$D$7","v":0},{"$f":"$D$8","v":0},{"$f":"$F$6","v":0},{"$f":"F27","v":0},{"$f":"F28","v":0},{"$f":"F29","v":0},{"$f":"F30","v":0},{"$f":"F31","v":0}]
[null,"区間","距離","選手名","選手名","性別","年齢","宣言ﾀｲﾑ",null,"（宣言ﾀｲﾑ）","ﾁｰﾑNo\n(主催者用)"]
[null,null,"Km","（漢字）","（フリガナ or ふりがな）","男/女","歳","分","秒"]
[null,null,null,"漢字で入力","手動で入力ください",null,"半角数値で入力"]
[null,"１区",7.11,null,null,null,null,null,null,{"$f":"IF(H27<>\"\",H27&\":\"&I27,\"\")","v":""}]
[null,"２区",4.74,null,null,null,null,null,null,{"$f":"IF(H28<>\"\",H28&\":\"&I28,\"\")","v":""}]
[null,"３区",2.37,null,null,null,null,null,null,{"$f":"IF(H29<>\"\",H29&\":\"&I29,\"\")","v":""}]
[null,"４区",4.74,null,null,null,null,null,null,50]
[null,"５区",4.74,null,null,null,null,null,null,{"$f":"IF(H31<>\"\",H31&\":\"&I31,\"\")","v":""}]
[null,null,null,null,null,null,null,null,null,{"$f":"60*SUM(H27:H31)+SUM(I27:I31)","v":0}]
[null,"区間計",{"$f":"SUM(C27:C31)","v":23.700000000000003},null,null,null,{"$f":"IF(G27=\"\",\"\",SUM(G27:G31))","v":""},null,null,{"$f":"IF($H27=\"\",\"\",INT(INT($J32/3600))&\":\"&INT(($J32-(INT($J32/3600))*3600)/60)&\":\"&($J32-(INT($J32/3600))*3600)-(INT(($J32-(INT($J32/3600))*3600)/60))*60)","v":""}]
[null,null,null,null,null,null,null,null,null,null,null,null,"No","チーム名","氏名","Y1","宣言ﾀｲﾑ","氏名","Y2","宣言ﾀｲﾑ","氏名","Y3","宣言ﾀｲﾑ","氏名","Y4","宣言ﾀｲﾑ","氏名","Y5","宣言ﾀｲﾑ",null,"No","チーム名","代表者名","住所","電話","e-mail","s1","s2","s3","s4","s5"]
[]
[null,"　チーム名",null,null,null,null,null,null,null,null,null,null,{"$f":"K36","v":0},{"$f":"D36","v":0},{"$f":"D40","v":0},{"$f":"G40","v":0},{"$f":"H40*100+I40","v":0},{"$f":"D41","v":0},{"$f":"G41","v":0},{"$f":"H41*100+I41","v":0},{"$f":"D42","v":0},{"$f":"G42","v":0},{"$f":"H42*100+I42","v":0},{"$f":"D43","v":0},{"$f":"G43","v":0},{"$f":"H43*100+I43","v":0},{"$f":"D44","v":0},{"$f":"G44","v":0},{"$f":"H44*100+I44","v":0},null,{"$f":"C36","v":0},{"$f":"D36","v":0},{"$f":"$D$6","v":0},{"$f":"$D$7","v":0},{"$f":"$D$8","v":0},{"$f":"$F$6","v":0},{"$f":"F40","v":0},{"$f":"F41","v":0},{"$f":"F42","v":0},{"$f":"F43","v":0},{"$f":"F44","v":0}]
[null,"区間","距離","選手名","選手名","性別","年齢","宣言ﾀｲﾑ",null,"（宣言ﾀｲﾑ）","ﾁｰﾑNo\n(主催者用)"]
[null,null,"Km","（漢字）","（フリガナ or ふりがな）","男/女","歳","分","秒"]
[null,null,null,"漢字で入力","手動で入力ください",null,"半角数値で入力"]
[null,"１区",7.11,null,null,null,null,null,null,{"$f":"IF(H40<>\"\",H40&\":\"&I40,\"\")","v":""}]
[null,"２区",4.74,null,null,null,null,null,null,{"$f":"IF(H41<>\"\",H41&\":\"&I41,\"\")","v":""}]
[null,"３区",2.37,null,null,null,null,null,null,{"$f":"IF(H42<>\"\",H42&\":\"&I42,\"\")","v":""}]
[null,"４区",4.74,null,null,null,null,null,null,{"$f":"IF(H43<>\"\",H43&\":\"&I43,\"\")","v":""}]
[null,"５区",4.74,null,null,null,null,null,null,{"$f":"IF(H44<>\"\",H44&\":\"&I44,\"\")","v":""}]
[null,null,null,null,null,null,null,null,null,{"$f":"60*SUM(H40:H44)+SUM(I40:I44)","v":0}]
[null,"区間計",{"$f":"SUM(C40:C44)","v":23.700000000000003},null,null,null,{"$f":"IF(G40=\"\",\"\",SUM(G40:G44))","v":""},null,null,{"$f":"IF($H40=\"\",\"\",INT(INT($J45/3600))&\":\"&INT(($J45-(INT($J45/3600))*3600)/60)&\":\"&($J45-(INT($J45/3600))*3600)-(INT(($J45-(INT($J45/3600))*3600)/60))*60)","v":""}]
[null,null,null,null,null,null,null,null,null,null,null,null,"No","チーム名","氏名","Y1","宣言ﾀｲﾑ","氏名","Y2","宣言ﾀｲﾑ","氏名","Y3","宣言ﾀｲﾑ","氏名","Y4","宣言ﾀｲﾑ","氏名","Y5","宣言ﾀｲﾑ",null,"No","チーム名","代表者名","住所","電話","e-mail","s1","s2","s3","s4","s5"]
[]
[null,"　チーム名",null,null,null,null,null,null,null,null,null,null,{"$f":"K49","v":0},{"$f":"D49","v":0},{"$f":"D53","v":0},{"$f":"G53","v":0},{"$f":"H53*100+I53","v":0},{"$f":"D54","v":0},{"$f":"G54","v":0},{"$f":"H54*100+I54","v":0},{"$f":"D55","v":0},{"$f":"G55","v":0},{"$f":"H55*100+I55","v":0},{"$f":"D56","v":0},{"$f":"G56","v":0},{"$f":"H56*100+I56","v":0},{"$f":"D57","v":0},{"$f":"G57","v":0},{"$f":"H57*100+I57","v":0},null,{"$f":"C49","v":0},{"$f":"D49","v":0},{"$f":"$D$6","v":0},{"$f":"$D$7","v":0},{"$f":"$D$8","v":0},{"$f":"$F$6","v":0},{"$f":"F53","v":0},{"$f":"F54","v":0},{"$f":"F55","v":0},{"$f":"F56","v":0},{"$f":"F57","v":0}]
[null,"区間","距離","選手名","選手名","性別","年齢","宣言ﾀｲﾑ",null,"（宣言ﾀｲﾑ）","ﾁｰﾑNo\n(主催者用)"]
[null,null,"Km","（漢字）","（フリガナ or ふりがな）","男/女","歳","分","秒"]
[null,null,null,"漢字で入力","手動で入力ください",null,"半角数値で入力"]
[null,"１区",7.11,null,null,null,null,null,null,{"$f":"IF(H53<>\"\",H53&\":\"&I53,\"\")","v":""}]
[null,"２区",4.74,null,null,null,null,null,null,{"$f":"IF(H54<>\"\",H54&\":\"&I54,\"\")","v":""}]
[null,"３区",2.37,null,null,null,null,null,null,{"$f":"IF(H55<>\"\",H55&\":\"&I55,\"\")","v":""}]
[null,"４区",4.74,null,null,null,null,null,null,{"$f":"IF(H56<>\"\",H56&\":\"&I56,\"\")","v":""}]
[null,"５区",4.74,null,null,null,null,null,null,{"$f":"IF(H57<>\"\",H57&\":\"&I57,\"\")","v":""}]
[null,null,null,null,null,null,null,null,null,{"$f":"60*SUM(H53:H57)+SUM(I53:I57)","v":0}]
[null,"区間計",{"$f":"SUM(C53:C57)","v":23.700000000000003},null,null,null,{"$f":"IF(G53=\"\",\"\",SUM(G53:G57))","v":""},null,null,{"$f":"IF($H53=\"\",\"\",INT(INT($J58/3600))&\":\"&INT(($J58-(INT($J58/3600))*3600)/60)&\":\"&($J58-(INT($J58/3600))*3600)-(INT(($J58-(INT($J58/3600))*3600)/60))*60)","v":""}]
[null,null,null,null,null,null,null,null,null,null,null,null,"No","チーム名","氏名","Y1","宣言ﾀｲﾑ","氏名","Y2","宣言ﾀｲﾑ","氏名","Y3","宣言ﾀｲﾑ","氏名","Y4","宣言ﾀｲﾑ","氏名","Y5","宣言ﾀｲﾑ",null,"No","チーム名","代表者名","住所","電話","e-mail","s1","s2","s3","s4","s5"]

{"sheet":"変更","index":1,"n_rows":60,"n_cols":43,"rows_kept":60,"cut":false,"hidden":false,"merged":[[38,1,38,2],[38,7,38,10],[1,1,1,11],[5,6,5,11],[6,4,6,10],[11,9,11,10],[13,1,13,2],[13,7,13,10],[51,1,51,2],[51,7,51,10],[3,1,3,2],[4,1,4,2],[9,5,9,11],[11,8,12,8],[11,3,13,3],[10,5,10,11],[22,5,22,11],[35,5,35,11],[48,5,48,11],[49,9,49,10],[23,9,23,10],[25,1,25,2],[25,7,25,10],[36,9,36,10]]}
[]
[null,"　　　　第３３回 楮川ダム駅伝競走大会　変更用紙"]
[]
[null,"１．変更日：",null,null,null,"変更回数："]
[null,"２．代表者",null,null,null,"　　　　　　　　       　  　　　　　　　　　　　","（e-mailは今後のご案内等に必要となります）"]
[null,null,"氏名：",null,{"$f":"IF(申込み!D6=\"\",\"\",申込み!D6)","v":""},"　e-mail ",{"$f":"IF(申込み!F6=\"\",\"\",申込み!F6)","v":""},{"$f":"IF(申込み!G6=\"\",\"\",申込み!G6)","v":""},{"$f":"IF(申込み!H6=\"\",\"\",申込み!H6)","v":""},{"$f":"IF(申込み!I6=\"\",\"\",申込み!I6)","v":""},{"$f":"IF(申込み!J6=\"\",\"\",申込み!J6)","v":""},{"$f":"IF(申込み!K6=\"\",\"\",申込み!K6)","v":""},null,"男"]
[null,null,"住所：",null,{"$f":"IF(申込み!D7=\"\",\"\",申込み!D7)","v":""},{"$f":"IF(申込み!E7=\"\",\"\",申込み!E7)","v":""},{"$f":"IF(申込み!F7=\"\",\"\",申込み!F7)","v":""},{"$f":"IF(申込み!G7=\"\",\"\",申込み!G7)","v":""},null,{"$f":"IF(申込み!H7=\"\",\"\",申込み!H7)","v":""},{"$f":"IF(申込み!I7=\"\",\"\",申込み!I7)","v":""},null,null,"女"]
[null,null,"Tel：",null,{"$f":"IF(申込み!D8=\"\",\"\",申込み!D8)","v":""}]
[]
[null,"３．登録選手名および宣言タイム 　",null,null,null,"変更内容"]
[null,"　チーム名",null,null,{"$f":"IF(申込み!D11=\"\",\"\",申込み!D11)","v":""},null,null,null,null,null,null,null,null,null,{"$f":"M11","v":0},{"$f":"E11","v":""},{"$f":"E15","v":""},{"$f":"H15","v":""},{"$f":"J15*100+K15","v":{"$error":"#VALUE!"}},{"$f":"E16","v":""},{"$f":"H16","v":""},{"$f":"J16*100+K16","v":{"$error":"#VALUE!"}},{"$f":"E17","v":""},{"$f":"H17","v":""},{"$f":"J17*100+K17","v":{"$error":"#VALUE!"}},{"$f":"E18","v":""},{"$f":"H18","v":""},{"$f":"J18*100+K18","v":{"$error":"#VALUE!"}},{"$f":"E19","v":""},{"$f":"H19","v":""},{"$f":"J19*100+K19","v":{"$error":"#VALUE!"}},null,{"$f":"C11","v":0},{"$f":"E11","v":""},{"$f":"$E$6","v":""},{"$f":"$E$7","v":""},{"$f":"$E$8","v":""},{"$f":"$G$6","v":""},{"$f":"G15","v":""},{"$f":"G16","v":""},{"$f":"G17","v":""},{"$f":"G18","v":""},{"$f":"G19","v":""}]
[null,"区間","距離","変更\nflag","選手名","選手名","性別","年齢","変更\nflag","宣言ﾀｲﾑ",null,"（宣言ﾀｲﾑ）","ﾁｰﾑNo\n(主催者用)"]
[null,null,"Km",null,"（漢字）","（フリガナ or ふりがな）","男/女","歳",null,"分","秒"]
[null,null,null,null,"漢字で入力","手動で入力ください",null,"半角数値で入力"]
[null,"１区",7.11,null,{"$f":"IF(D15=\"変更\",\"\",IF(申込み!D15=\"\",\"\",申込み!D15))","v":""},{"$f":"IF(D15=\"変更\",\"\",IF(申込み!E15=\"\",\"\",申込み!E15))","v":""},{"$f":"IF(申込み!F15=\"\",\"\",申込み!F15)","v":""},{"$f":"IF(申込み!G15=\"\",\"\",申込み!G15)","v":""},null,{"$f":"IF(申込み!H15=\"\",\"\",申込み!H15)","v":""},{"$f":"IF(申込み!I15=\"\",\"\",申込み!I15)","v":""},{"$f":"IF(J15<>\"\",J15&\":\"&K15,\"\")","v":""}]
[null,"２区",4.74,null,{"$f":"IF(D16=\"変更\",\"\",IF(申込み!D16=\"\",\"\",申込み!D16))","v":""},{"$f":"IF(D16=\"変更\",\"\",IF(申込み!E16=\"\",\"\",申込み!E16))","v":""},{"$f":"IF(申込み!F16=\"\",\"\",申込み!F16)","v":""},{"$f":"IF(申込み!G16=\"\",\"\",申込み!G16)","v":""},null,{"$f":"IF(申込み!H16=\"\",\"\",申込み!H16)","v":""},{"$f":"IF(申込み!I16=\"\",\"\",申込み!I16)","v":""},{"$f":"IF(J16<>\"\",J16&\":\"&K16,\"\")","v":""}]
[null,"３区",2.37,null,{"$f":"IF(D17=\"変更\",\"\",IF(申込み!D17=\"\",\"\",申込み!D17))","v":""},{"$f":"IF(D17=\"変更\",\"\",IF(申込み!E17=\"\",\"\",申込み!E17))","v":""},{"$f":"IF(申込み!F17=\"\",\"\",申込み!F17)","v":""},{"$f":"IF(申込み!G17=\"\",\"\",申込み!G17)","v":""},null,{"$f":"IF(申込み!H17=\"\",\"\",申込み!H17)","v":""},{"$f":"IF(申込み!I17=\"\",\"\",申込み!I17)","v":""},{"$f":"IF(J17<>\"\",J17&\":\"&K17,\"\")","v":""}]
[null,"４区",4.74,null,{"$f":"IF(D18=\"変更\",\"\",IF(申込み!D18=\"\",\"\",申込み!D18))","v":""},{"$f":"IF(D18=\"変更\",\"\",IF(申込み!E18=\"\",\"\",申込み!E18))","v":""},{"$f":"IF(申込み!F18=\"\",\"\",申込み!F18)","v":""},{"$f":"IF(申込み!G18=\"\",\"\",申込み!G18)","v":""},null,{"$f":"IF(申込み!H18=\"\",\"\",申込み!H18)","v":""},{"$f":"IF(申込み!I18=\"\",\"\",申込み!I18)","v":""},{"$f":"IF(J18<>\"\",J18&\":\"&K18,\"\")","v":""}]
[null,"５区",4.74,null,{"$f":"IF(D19=\"変更\",\"\",IF(申込み!D19=\"\",\"\",申込み!D19))","v":""},{"$f":"IF(D19=\"変更\",\"\",IF(申込み!E19=\"\",\"\",申込み!E19))","v":""},{"$f":"IF(申込み!F19=\"\",\"\",申込み!F19)","v":""},{"$f":"IF(申込み!G19=\"\",\"\",申込み!G19)","v":""},null,{"$f":"IF(申込み!H19=\"\",\"\",申込み!H19)","v":""},{"$f":"IF(申込み!I19=\"\",\"\",申込み!I19)","v":""},{"$f":"IF(J19<>\"\",J19&\":\"&K19,\"\")","v":""}]
[null,null,null,null,null,null,null,null,null,null,null,{"$f":"60*SUM(J15:J19)+SUM(K15:K19)","v":0}]
[null,"区間計",{"$f":"SUM(C15:C19)","v":23.700000000000003},null,null,null,null,{"$f":"IF(H15=\"\",\"\",SUM(H15:H19))","v":""},null,null,null,{"$f":"IF($J15=\"\",\"\",INT(INT($L20/3600))&\":\"&INT(($L20-(INT($L20/3600))*3600)/60)&\":\"&($L20-(INT($L20/3600))*3600)-(INT(($L20-(INT($L20/3600))*3600)/60))*60)","v":""}]
[null,null,null,null,null,null,null,null,null,null,null,null,null,null,"No","チーム名","氏名","Y1","宣言ﾀｲﾑ","氏名","Y2","宣言ﾀｲﾑ","氏名","Y3","宣言ﾀｲﾑ","氏名","Y4","宣言ﾀｲﾑ","氏名","Y5","宣言ﾀｲﾑ",null,"No","チーム名","代表者名","住所","電話","e-mail","s1","s2","s3","s4","s5"]
[null,"　チーム名",null,null,{"$f":"IF(申込み!D23=\"\",\"\",申込み!D23)","v":""},null,null,null,null,null,null,null,null,null,{"$f":"M23","v":0},{"$f":"E23","v":""},{"$f":"E27","v":""},{"$f":"H27","v":""},{"$f":"J27*100+K27","v":{"$error":"#VALUE!"}},{"$f":"E28","v":""},{"$f":"H28","v":""},{"$f":"J28*100+K28","v":{"$error":"#VALUE!"}},{"$f":"E29","v":""},{"$f":"H29","v":""},{"$f":"J29*100+K29","v":{"$error":"#VALUE!"}},{"$f":"E30","v":""},{"$f":"H30","v":""},{"$f":"J30*100+K30","v":{"$error":"#VALUE!"}},{"$f":"E31","v":""},{"$f":"H31","v":""},{"$f":"J31*100+K31","v":{"$error":"#VALUE!"}},null,{"$f":"C23","v":0},{"$f":"E23","v":""},{"$f":"$E$6","v":""},{"$f":"$E$7","v":""},{"$f":"$E$8","v":""},{"$f":"$G$6","v":""},{"$f":"G27","v":""},{"$f":"G28","v":""},{"$f":"G29","v":""},{"$f":"G30","v":""},{"$f":"G31","v":""}]
[null,"区間","距離",null,"選手名","選手名","性別","年齢",null,"宣言ﾀｲﾑ",null,"（宣言ﾀｲﾑ）","ﾁｰﾑNo\n(主催者用)"]
[null,null,"Km",null,"（漢字）","（フリガナ or ふりがな）","男/女","歳",null,"分","秒"]
[null,null,null,null,"漢字で入力","手動で入力ください",null,"半角数値で入力"]
[null,"１区",7.11,null,{"$f":"IF(申込み!D27=\"\",\"\",申込み!D27)","v":""},{"$f":"IF(申込み!E27=\"\",\"\",申込み!E27)","v":""},{"$f":"IF(申込み!F27=\"\",\"\",申込み!F27)","v":""},{"$f":"IF(申込み!G27=\"\",\"\",申込み!G27)","v":""},null,{"$f":"IF(申込み!H27=\"\",\"\",申込み!H27)","v":""},{"$f":"IF(申込み!I27=\"\",\"\",申込み!I27)","v":""},{"$f":"IF(J27<>\"\",J27&\":\"&K27,\"\")","v":""}]
[null,"２区",4.74,null,{"$f":"IF(申込み!D28=\"\",\"\",申込み!D28)","v":""},{"$f":"IF(申込み!E28=\"\",\"\",申込み!E28)","v":""},{"$f":"IF(申込み!F28=\"\",\"\",申込み!F28)","v":""},{"$f":"IF(申込み!G28=\"\",\"\",申込み!G28)","v":""},null,{"$f":"IF(申込み!H28=\"\",\"\",申込み!H28)","v":""},{"$f":"IF(申込み!I28=\"\",\"\",申込み!I28)","v":""},{"$f":"IF(J28<>\"\",J28&\":\"&K28,\"\")","v":""}]
[null,"３区",2.37,null,{"$f":"IF(申込み!D29=\"\",\"\",申込み!D29)","v":""},{"$f":"IF(申込み!E29=\"\",\"\",申込み!E29)","v":""},{"$f":"IF(申込み!F29=\"\",\"\",申込み!F29)","v":""},{"$f":"IF(申込み!G29=\"\",\"\",申込み!G29)","v":""},null,{"$f":"IF(申込み!H29=\"\",\"\",申込み!H29)","v":""},{"$f":"IF(申込み!I29=\"\",\"\",申込み!I29)","v":""},{"$f":"IF(J29<>\"\",J29&\":\"&K29,\"\")","v":""}]
[null,"４区",4.74,null,{"$f":"IF(申込み!D30=\"\",\"\",申込み!D30)","v":""},{"$f":"IF(申込み!E30=\"\",\"\",申込み!E30)","v":""},{"$f":"IF(申込み!F30=\"\",\"\",申込み!F30)","v":""},{"$f":"IF(申込み!G30=\"\",\"\",申込み!G30)","v":""},null,{"$f":"IF(申込み!H30=\"\",\"\",申込み!H30)","v":""},{"$f":"IF(申込み!I30=\"\",\"\",申込み!I30)","v":""},{"$f":"IF(J30<>\"\",J30&\":\"&K30,\"\")","v":""}]
[null,"５区",4.74,null,{"$f":"IF(申込み!D31=\"\",\"\",申込み!D31)","v":""},{"$f":"IF(申込み!E31=\"\",\"\",申込み!E31)","v":""},{"$f":"IF(申込み!F31=\"\",\"\",申込み!F31)","v":""},{"$f":"IF(申込み!G31=\"\",\"\",申込み!G31)","v":""},null,{"$f":"IF(申込み!H31=\"\",\"\",申込み!H31)","v":""},{"$f":"IF(申込み!I31=\"\",\"\",申込み!I31)","v":""},{"$f":"IF(J31<>\"\",J31&\":\"&K31,\"\")","v":""}]
[null,null,null,null,null,null,null,null,null,null,null,{"$f":"60*SUM(J27:J31)+SUM(K27:K31)","v":0}]
[null,"区間計",{"$f":"SUM(C27:C31)","v":23.700000000000003},null,null,null,null,{"$f":"IF(H27=\"\",\"\",SUM(H27:H31))","v":""},null,null,null,{"$f":"IF($J27=\"\",\"\",INT(INT($L32/3600))&\":\"&INT(($L32-(INT($L32/3600))*3600)/60)&\":\"&($L32-(INT($L32/3600))*3600)-(INT(($L32-(INT($L32/3600))*3600)/60))*60)","v":""}]
[null,null,null,null,null,null,null,null,null,null,null,null,null,null,"No","チーム名","氏名","Y1","宣言ﾀｲﾑ","氏名","Y2","宣言ﾀｲﾑ","氏名","Y3","宣言ﾀｲﾑ","氏名","Y4","宣言ﾀｲﾑ","氏名","Y5","宣言ﾀｲﾑ",null,"No","チーム名","代表者名","住所","電話","e-mail","s1","s2","s3","s4","s5"]
[]
[null,"　チーム名",null,null,{"$f":"IF(申込み!D36=\"\",\"\",申込み!D36)","v":""},null,null,null,null,null,null,null,null,null,{"$f":"M36","v":0},{"$f":"E36","v":""},{"$f":"E40","v":""},{"$f":"H40","v":""},{"$f":"J40*100+K40","v":{"$error":"#VALUE!"}},{"$f":"E41","v":""},{"$f":"H41","v":""},{"$f":"J41*100+K41","v":{"$error":"#VALUE!"}},{"$f":"E42","v":""},{"$f":"H42","v":""},{"$f":"J42*100+K42","v":{"$error":"#VALUE!"}},{"$f":"E43","v":""},{"$f":"H43","v":""},{"$f":"J43*100+K43","v":{"$error":"#VALUE!"}},{"$f":"E44","v":""},{"$f":"H44","v":""},{"$f":"J44*100+K44","v":{"$error":"#VALUE!"}},null,{"$f":"C36","v":0},{"$f":"E36","v":""},{"$f":"$E$6","v":""},{"$f":"$E$7","v":""},{"$f":"$E$8","v":""},{"$f":"$G$6","v":""},{"$f":"G40","v":""},{"$f":"G41","v":""},{"$f":"G42","v":""},{"$f":"G43","v":""},{"$f":"G44","v":""}]
[null,"区間","距離",null,"選手名","選手名","性別","年齢",null,"宣言ﾀｲﾑ",null,"（宣言ﾀｲﾑ）","ﾁｰﾑNo\n(主催者用)"]
[null,null,"Km",null,"（漢字）","（フリガナ or ふりがな）","男/女","歳",null,"分","秒"]
[null,null,null,null,"漢字で入力","手動で入力ください",null,"半角数値で入力"]
[null,"１区",7.11,null,{"$f":"IF(申込み!D40=\"\",\"\",申込み!D40)","v":""},{"$f":"IF(申込み!E40=\"\",\"\",申込み!E40)","v":""},{"$f":"IF(申込み!F40=\"\",\"\",申込み!F40)","v":""},{"$f":"IF(申込み!G40=\"\",\"\",申込み!G40)","v":""},null,{"$f":"IF(申込み!H40=\"\",\"\",申込み!H40)","v":""},{"$f":"IF(申込み!I40=\"\",\"\",申込み!I40)","v":""},{"$f":"IF(J40<>\"\",J40&\":\"&K40,\"\")","v":""}]
[null,"２区",4.74,null,{"$f":"IF(申込み!D41=\"\",\"\",申込み!D41)","v":""},{"$f":"IF(申込み!E41=\"\",\"\",申込み!E41)","v":""},{"$f":"IF(申込み!F41=\"\",\"\",申込み!F41)","v":""},{"$f":"IF(申込み!G41=\"\",\"\",申込み!G41)","v":""},null,{"$f":"IF(申込み!H41=\"\",\"\",申込み!H41)","v":""},{"$f":"IF(申込み!I41=\"\",\"\",申込み!I41)","v":""},{"$f":"IF(J41<>\"\",J41&\":\"&K41,\"\")","v":""}]
[null,"３区",2.37,null,{"$f":"IF(申込み!D42=\"\",\"\",申込み!D42)","v":""},{"$f":"IF(申込み!E42=\"\",\"\",申込み!E42)","v":""},{"$f":"IF(申込み!F42=\"\",\"\",申込み!F42)","v":""},{"$f":"IF(申込み!G42=\"\",\"\",申込み!G42)","v":""},null,{"$f":"IF(申込み!H42=\"\",\"\",申込み!H42)","v":""},{"$f":"IF(申込み!I42=\"\",\"\",申込み!I42)","v":""},{"$f":"IF(J42<>\"\",J42&\":\"&K42,\"\")","v":""}]
[null,"４区",4.74,null,{"$f":"IF(申込み!D43=\"\",\"\",申込み!D43)","v":""},{"$f":"IF(申込み!E43=\"\",\"\",申込み!E43)","v":""},{"$f":"IF(申込み!F43=\"\",\"\",申込み!F43)","v":""},{"$f":"IF(申込み!G43=\"\",\"\",申込み!G43)","v":""},null,{"$f":"IF(申込み!H43=\"\",\"\",申込み!H43)","v":""},{"$f":"IF(申込み!I43=\"\",\"\",申込み!I43)","v":""},{"$f":"IF(J43<>\"\",J43&\":\"&K43,\"\")","v":""}]
[null,"５区",4.74,null,{"$f":"IF(申込み!D44=\"\",\"\",申込み!D44)","v":""},{"$f":"IF(申込み!E44=\"\",\"\",申込み!E44)","v":""},{"$f":"IF(申込み!F44=\"\",\"\",申込み!F44)","v":""},{"$f":"IF(申込み!G44=\"\",\"\",申込み!G44)","v":""},null,{"$f":"IF(申込み!H44=\"\",\"\",申込み!H44)","v":""},{"$f":"IF(申込み!I44=\"\",\"\",申込み!I44)","v":""},{"$f":"IF(J44<>\"\",J44&\":\"&K44,\"\")","v":""}]
[null,null,null,null,null,null,null,null,null,null,null,{"$f":"60*SUM(J40:J44)+SUM(K40:K44)","v":0}]
[null,"区間計",{"$f":"SUM(C40:C44)","v":23.700000000000003},null,null,null,null,{"$f":"IF(H40=\"\",\"\",SUM(H40:H44))","v":""},null,null,null,{"$f":"IF($J40=\"\",\"\",INT(INT($L45/3600))&\":\"&INT(($L45-(INT($L45/3600))*3600)/60)&\":\"&($L45-(INT($L45/3600))*3600)-(INT(($L45-(INT($L45/3600))*3600)/60))*60)","v":""}]
[null,null,null,null,null,null,null,null,null,null,null,null,null,null,"No","チーム名","氏名","Y1","宣言ﾀｲﾑ","氏名","Y2","宣言ﾀｲﾑ","氏名","Y3","宣言ﾀｲﾑ","氏名","Y4","宣言ﾀｲﾑ","氏名","Y5","宣言ﾀｲﾑ",null,"No","チーム名","代表者名","住所","電話","e-mail","s1","s2","s3","s4","s5"]
[]
[null,"　チーム名",null,null,{"$f":"IF(申込み!D49=\"\",\"\",申込み!D49)","v":""},null,null,null,null,null,null,null,null,null,{"$f":"M49","v":0},{"$f":"E49","v":""},{"$f":"E53","v":""},{"$f":"H53","v":""},{"$f":"J53*100+K53","v":{"$error":"#VALUE!"}},{"$f":"E54","v":""},{"$f":"H54","v":""},{"$f":"J54*100+K54","v":{"$error":"#VALUE!"}},{"$f":"E55","v":""},{"$f":"H55","v":""},{"$f":"J55*100+K55","v":{"$error":"#VALUE!"}},{"$f":"E56","v":""},{"$f":"H56","v":""},{"$f":"J56*100+K56","v":{"$error":"#VALUE!"}},{"$f":"E57","v":""},{"$f":"H57","v":""},{"$f":"J57*100+K57","v":{"$error":"#VALUE!"}},null,{"$f":"C49","v":0},{"$f":"E49","v":""},{"$f":"$E$6","v":""},{"$f":"$E$7","v":""},{"$f":"$E$8","v":""},{"$f":"$G$6","v":""},{"$f":"G53","v":""},{"$f":"G54","v":""},{"$f":"G55","v":""},{"$f":"G56","v":""},{"$f":"G57","v":""}]
[null,"区間","距離",null,"選手名","選手名","性別","年齢",null,"宣言ﾀｲﾑ",null,"（宣言ﾀｲﾑ）","ﾁｰﾑNo\n(主催者用)"]
[null,null,"Km",null,"（漢字）","（フリガナ or ふりがな）","男/女","歳",null,"分","秒"]
[null,null,null,null,"漢字で入力","手動で入力ください",null,"半角数値で入力"]
[null,"１区",7.11,null,{"$f":"IF(申込み!D53=\"\",\"\",申込み!D53)","v":""},{"$f":"IF(申込み!E53=\"\",\"\",申込み!E53)","v":""},{"$f":"IF(申込み!F53=\"\",\"\",申込み!F53)","v":""},{"$f":"IF(申込み!G53=\"\",\"\",申込み!G53)","v":""},null,{"$f":"IF(申込み!H53=\"\",\"\",申込み!H53)","v":""},{"$f":"IF(申込み!I53=\"\",\"\",申込み!I53)","v":""},{"$f":"IF(J53<>\"\",J53&\":\"&K53,\"\")","v":""}]
[null,"２区",4.74,null,{"$f":"IF(申込み!D54=\"\",\"\",申込み!D54)","v":""},{"$f":"IF(申込み!E54=\"\",\"\",申込み!E54)","v":""},{"$f":"IF(申込み!F54=\"\",\"\",申込み!F54)","v":""},{"$f":"IF(申込み!G54=\"\",\"\",申込み!G54)","v":""},null,{"$f":"IF(申込み!H54=\"\",\"\",申込み!H54)","v":""},{"$f":"IF(申込み!I54=\"\",\"\",申込み!I54)","v":""},{"$f":"IF(J54<>\"\",J54&\":\"&K54,\"\")","v":""}]
[null,"３区",2.37,null,{"$f":"IF(申込み!D55=\"\",\"\",申込み!D55)","v":""},{"$f":"IF(申込み!E55=\"\",\"\",申込み!E55)","v":""},{"$f":"IF(申込み!F55=\"\",\"\",申込み!F55)","v":""},{"$f":"IF(申込み!G55=\"\",\"\",申込み!G55)","v":""},null,{"$f":"IF(申込み!H55=\"\",\"\",申込み!H55)","v":""},{"$f":"IF(申込み!I55=\"\",\"\",申込み!I55)","v":""},{"$f":"IF(J55<>\"\",J55&\":\"&K55,\"\")","v":""}]
[null,"４区",4.74,null,{"$f":"IF(申込み!D56=\"\",\"\",申込み!D56)","v":""},{"$f":"IF(申込み!E56=\"\",\"\",申込み!E56)","v":""},{"$f":"IF(申込み!F56=\"\",\"\",申込み!F56)","v":""},{"$f":"IF(申込み!G56=\"\",\"\",申込み!G56)","v":""},null,{"$f":"IF(申込み!H56=\"\",\"\",申込み!H56)","v":""},{"$f":"IF(申込み!I56=\"\",\"\",申込み!I56)","v":""},{"$f":"IF(J56<>\"\",J56&\":\"&K56,\"\")","v":""}]
[null,"５区",4.74,null,{"$f":"IF(申込み!D57=\"\",\"\",申込み!D57)","v":""},{"$f":"IF(申込み!E57=\"\",\"\",申込み!E57)","v":""},{"$f":"IF(申込み!F57=\"\",\"\",申込み!F57)","v":""},{"$f":"IF(申込み!G57=\"\",\"\",申込み!G57)","v":""},null,{"$f":"IF(申込み!H57=\"\",\"\",申込み!H57)","v":""},{"$f":"IF(申込み!I57=\"\",\"\",申込み!I57)","v":""},{"$f":"IF(J57<>\"\",J57&\":\"&K57,\"\")","v":""}]
[null,null,null,null,null,null,null,null,null,null,null,{"$f":"60*SUM(J53:J57)+SUM(K53:K57)","v":0}]
[null,"区間計",{"$f":"SUM(C53:C57)","v":23.700000000000003},null,null,null,null,{"$f":"IF(H53=\"\",\"\",SUM(H53:H57))","v":""},null,null,null,{"$f":"IF($J53=\"\",\"\",INT(INT($L58/3600))&\":\"&INT(($L58-(INT($L58/3600))*3600)/60)&\":\"&($L58-(INT($L58/3600))*3600)-(INT(($L58-(INT($L58/3600))*3600)/60))*60)","v":""}]
[null,null,null,null,null,null,null,null,null,null,null,null,null,null,"No","チーム名","氏名","Y1","宣言ﾀｲﾑ","氏名","Y2","宣言ﾀｲﾑ","氏名","Y3","宣言ﾀｲﾑ","氏名","Y4","宣言ﾀｲﾑ","氏名","Y5","宣言ﾀｲﾑ",null,"No","チーム名","代表者名","住所","電話","e-mail","s1","s2","s3","s4","s5"]

{"sheet":"行集約","index":2,"n_rows":47,"n_cols":30,"rows_kept":47,"cut":false,"hidden":true,"merged":[]}
[]
["男"]
["女"]
[]
[]
[]
[]
[]
[]
[null,"No","チーム名","氏名","Y1","宣言ﾀｲﾑ","氏名","Y2","宣言ﾀｲﾑ","氏名","Y3","宣言ﾀｲﾑ","氏名","Y4","宣言ﾀｲﾑ","氏名","Y5","宣言ﾀｲﾑ",null,"No","チーム名","代表者名","住所","電話","e-mail","s1","s2","s3","s4","s5"]
[null,{"$f":"#REF!","v":{"$error":"#REF!"}},{"$f":"team1","v":{"$error":"#NAME?"}},{"$f":"#REF!","v":{"$error":"#REF!"}},{"$f":"#REF!","v":{"$error":"#REF!"}},{"$f":"#REF!*100+#REF!","v":{"$error":"#REF!"}},{"$f":"#REF!","v":{"$error":"#REF!"}},{"$f":"#REF!","v":{"$error":"#REF!"}},{"$f":"#REF!*100+#REF!","v":{"$error":"#REF!"}},{"$f":"#REF!","v":{"$error":"#REF!"}},{"$f":"#REF!","v":{"$error":"#REF!"}},{"$f":"#REF!*100+#REF!","v":{"$error":"#REF!"}},{"$f":"#REF!","v":{"$error":"#REF!"}},{"$f":"#REF!","v":{"$error":"#REF!"}},{"$f":"#REF!*100+#REF!","v":{"$error":"#REF!"}},{"$f":"#REF!","v":{"$error":"#REF!"}},{"$f":"#REF!","v":{"$error":"#REF!"}},{"$f":"#REF!*100+#REF!","v":{"$error":"#REF!"}},null,{"$f":"#REF!","v":{"$error":"#REF!"}},{"$f":"#REF!","v":{"$error":"#REF!"}},{"$f":"#REF!","v":{"$error":"#REF!"}},{"$f":"#REF!","v":{"$error":"#REF!"}},{"$f":"#REF!","v":{"$error":"#REF!"}},{"$f":"#REF!","v":{"$error":"#REF!"}},{"$f":"#REF!","v":{"$error":"#REF!"}},{"$f":"#REF!","v":{"$error":"#REF!"}},{"$f":"#REF!","v":{"$error":"#REF!"}},{"$f":"#REF!","v":{"$error":"#REF!"}},{"$f":"#REF!","v":{"$error":"#REF!"}}]
[]
[]
[]
[]
[]
[]
[]
[]
[]
[]
[null,"No","チーム名","氏名","Y1","宣言ﾀｲﾑ","氏名","Y2","宣言ﾀｲﾑ","氏名","Y3","宣言ﾀｲﾑ","氏名","Y4","宣言ﾀｲﾑ","氏名","Y5","宣言ﾀｲﾑ",null,"No","チーム名","代表者名","住所","電話","e-mail","s1","s2","s3","s4","s5"]
[null,{"$f":"#REF!","v":{"$error":"#REF!"}},{"$f":"team2","v":{"$error":"#NAME?"}},{"$f":"#REF!","v":{"$error":"#REF!"}},{"$f":"#REF!","v":{"$error":"#REF!"}},{"$f":"#REF!*100+#REF!","v":{"$error":"#REF!"}},{"$f":"#REF!","v":{"$error":"#REF!"}},{"$f":"#REF!","v":{"$error":"#REF!"}},{"$f":"#REF!*100+#REF!","v":{"$error":"#REF!"}},{"$f":"#REF!","v":{"$error":"#REF!"}},{"$f":"#REF!","v":{"$error":"#REF!"}},{"$f":"#REF!*100+#REF!","v":{"$error":"#REF!"}},{"$f":"#REF!","v":{"$error":"#REF!"}},{"$f":"#REF!","v":{"$error":"#REF!"}},{"$f":"#REF!*100+#REF!","v":{"$error":"#REF!"}},{"$f":"#REF!","v":{"$error":"#REF!"}},{"$f":"#REF!","v":{"$error":"#REF!"}},{"$f":"#REF!*100+#REF!","v":{"$error":"#REF!"}},null,{"$f":"#REF!","v":{"$error":"#REF!"}},{"$f":"#REF!","v":{"$error":"#REF!"}},{"$f":"#REF!","v":{"$error":"#REF!"}},{"$f":"#REF!","v":{"$error":"#REF!"}},{"$f":"#REF!","v":{"$error":"#REF!"}},{"$f":"#REF!","v":{"$error":"#REF!"}},{"$f":"#REF!","v":{"$error":"#REF!"}},{"$f":"#REF!","v":{"$error":"#REF!"}},{"$f":"#REF!","v":{"$error":"#REF!"}},{"$f":"#REF!","v":{"$error":"#REF!"}},{"$f":"#REF!","v":{"$error":"#REF!"}}]
[]
[]
[]
[]
[]
[]
[]
[]
[]
[]
[null,"No","チーム名","氏名","Y1","宣言ﾀｲﾑ","氏名","Y2","宣言ﾀｲﾑ","氏名","Y3","宣言ﾀｲﾑ","氏名","Y4","宣言ﾀｲﾑ","氏名","Y5","宣言ﾀｲﾑ",null,"No","チーム名","代表者名","住所","電話","e-mail","s1","s2","s3","s4","s5"]
[null,{"$f":"#REF!","v":{"$error":"#REF!"}},{"$f":"team3","v":{"$error":"#NAME?"}},{"$f":"#REF!","v":{"$error":"#REF!"}},{"$f":"#REF!","v":{"$error":"#REF!"}},{"$f":"#REF!*100+#REF!","v":{"$error":"#REF!"}},{"$f":"#REF!","v":{"$error":"#REF!"}},{"$f":"#REF!","v":{"$error":"#REF!"}},{"$f":"#REF!*100+#REF!","v":{"$error":"#REF!"}},{"$f":"#REF!","v":{"$error":"#REF!"}},{"$f":"#REF!","v":{"$error":"#REF!"}},{"$f":"#REF!*100+#REF!","v":{"$error":"#REF!"}},{"$f":"#REF!","v":{"$error":"#REF!"}},{"$f":"#REF!","v":{"$error":"#REF!"}},{"$f":"#REF!*100+#REF!","v":{"$error":"#REF!"}},{"$f":"#REF!","v":{"$error":"#REF!"}},{"$f":"#REF!","v":{"$error":"#REF!"}},{"$f":"#REF!*100+#REF!","v":{"$error":"#REF!"}},null,{"$f":"#REF!","v":{"$error":"#REF!"}},{"$f":"#REF!","v":{"$error":"#REF!"}},{"$f":"#REF!","v":{"$error":"#REF!"}},{"$f":"#REF!","v":{"$error":"#REF!"}},{"$f":"#REF!","v":{"$error":"#REF!"}},{"$f":"#REF!","v":{"$error":"#REF!"}},{"$f":"#REF!","v":{"$error":"#REF!"}},{"$f":"#REF!","v":{"$error":"#REF!"}},{"$f":"#REF!","v":{"$error":"#REF!"}},{"$f":"#REF!","v":{"$error":"#REF!"}},{"$f":"#REF!","v":{"$error":"#REF!"}}]
[]
[]
[]
[]
[]
[]
[]
[]
[]
[]
[null,"No","チーム名","氏名","Y1","宣言ﾀｲﾑ","氏名","Y2","宣言ﾀｲﾑ","氏名","Y3","宣言ﾀｲﾑ","氏名","Y4","宣言ﾀｲﾑ","氏名","Y5","宣言ﾀｲﾑ",null,"No","チーム名","代表者名","住所","電話","e-mail","s1","s2","s3","s4","s5"]
[null,{"$f":"#REF!","v":{"$error":"#REF!"}},{"$f":"#REF!","v":{"$error":"#REF!"}},{"$f":"#REF!","v":{"$error":"#REF!"}},{"$f":"#REF!","v":{"$error":"#REF!"}},{"$f":"#REF!*100+#REF!","v":{"$error":"#REF!"}},{"$f":"#REF!","v":{"$error":"#REF!"}},{"$f":"#REF!","v":{"$error":"#REF!"}},{"$f":"#REF!*100+#REF!","v":{"$error":"#REF!"}},{"$f":"#REF!","v":{"$error":"#REF!"}},{"$f":"#REF!","v":{"$error":"#REF!"}},{"$f":"#REF!*100+#REF!","v":{"$error":"#REF!"}},{"$f":"#REF!","v":{"$error":"#REF!"}},{"$f":"#REF!","v":{"$error":"#REF!"}},{"$f":"#REF!*100+#REF!","v":{"$error":"#REF!"}},{"$f":"#REF!","v":{"$error":"#REF!"}},{"$f":"#REF!","v":{"$error":"#REF!"}},{"$f":"#REF!*100+#REF!","v":{"$error":"#REF!"}},null,{"$f":"#REF!","v":{"$error":"#REF!"}},{"$f":"#REF!","v":{"$error":"#REF!"}},{"$f":"#REF!","v":{"$error":"#REF!"}},{"$f":"#REF!","v":{"$error":"#REF!"}},{"$f":"#REF!","v":{"$error":"#REF!"}},{"$f":"#REF!","v":{"$error":"#REF!"}},{"$f":"#REF!","v":{"$error":"#REF!"}},{"$f":"#REF!","v":{"$error":"#REF!"}},{"$f":"#REF!","v":{"$error":"#REF!"}},{"$f":"#REF!","v":{"$error":"#REF!"}},{"$f":"#REF!","v":{"$error":"#REF!"}}]