{"text_format":"1","workbook":"xlsx","n_sheets":2,"sheets":["申込書","行集約"],"not_rendered":{"charts":0,"images":0,"macros":0,"external_links":2,"defined_names":73,"comments":1,"pivot_tables":0},"unopened":[],"bounds":{"document_bytes":16777216,"sheet_cells":100000,"rows_first":2000,"rows_last":500,"rows_between":2000,"halvings":0,"cell_chars":16384,"cell_head_chars":4096},"cells_cut":0,"cells_raw":0,"read":"whole","date_system":"1900"}

{"sheet":"申込書","index":0,"n_rows":63,"n_cols":41,"rows_kept":63,"cut":false,"hidden":false,"merged":[[53,7,53,8],[55,1,55,2],[55,6,55,8],[25,7,25,8],[27,1,27,2],[27,6,27,8],[41,7,41,8],[43,1,43,2],[43,6,43,8],[38,1,38,2],[39,1,39,2],[15,6,15,8],[15,1,15,2],[7,3,7,8],[1,1,1,9],[13,7,13,8],[4,5,4,9],[6,5,6,9]]}
[]
[null,"　　　　第３２回 楮川ダム駅伝競走大会  参加申込書"]
[null,"　　　新型コロナウィルス、インフルエンザ対策として、１団体２チームまでとさせていただきました。"]
[]
[null,"１．申込日："]
[null,"２．代表者",null,null,"　　　　　　　　       　  　　　　　　　　　　　","（e-mailは今後のご案内等に必要となります）"]
[null,null,"氏名：",null,"　e-mail ",null,null,null,null,null,null,"男"]
[null,null,"住所：",null,null,null,null,null,null,null,null,"女"]
[null,null,"Tel："]
[]
[null,"３．登録選手名および宣言タイム 　"]
[null,null,null,null,null,null,null,null,null,null,null,null,"No","チーム名","氏名","Y1","宣言ﾀｲﾑ","氏名","Y2","宣言ﾀｲﾑ","氏名","Y3","宣言ﾀｲﾑ","氏名","Y4","宣言ﾀｲﾑ","氏名","Y5","宣言ﾀｲﾑ",null,"No","チーム名","代表者名","住所","電話","e-mail","s1","s2","s3","s4","s5"]
[null,"　チーム名",null,null,null,null,null,null,null,null,null,null,{"$f":"K13","v":0},{"$f":"D13","v":0},{"$f":"D17","v":0},{"$f":"G17","v":0},{"$f":"H17*100+I17","v":0},{"$f":"D18","v":0},{"$f":"G18","v":0},{"$f":"H18*100+I18","v":0},{"$f":"D19","v":0},{"$f":"G19","v":0},{"$f":"H19*100+I19","v":0},{"$f":"D20","v":0},{"$f":"G20","v":0},{"$f":"H20*100+I20","v":0},{"$f":"D21","v":0},{"$f":"G21","v":0},{"$f":"H21*100+I21","v":0},null,{"$f":"C13","v":0},{"$f":"D13","v":0},{"$f":"$D$7","v":0},{"$f":"$D$8","v":0},{"$f":"$D$9","v":0},{"$f":"$F$7","v":0},{"$f":"F17","v":0},{"$f":"F18","v":0},{"$f":"F19","v":0},{"$f":"F20","v":0},{"$f":"F21","v":0}]
[null,"区間","距離","選手名","選手名","性別","年齢","宣言ﾀｲﾑ",null,"（宣言ﾀｲﾑ）","ﾁｰﾑNo\n(主催者用)"]
[null,null,"Km","（漢字）","（フリガナ or ふりがな）","男/女","歳","分","秒"]
[null,null,null,"漢字で入力","手動で入力ください",null,"半角数値で入力"]
[null,"１区",7.11,null,null,null,null,null,null,{"$f":"IF(H17<>\"\",H17&\":\"&I17,\"\")","v":""}]
[null,"２区",4.74,null,null,null,null,null,null,{"$f":"IF(H18<>\"\",H18&\":\"&I18,\"\")","v":""}]
[null,"３区",2.37,null,null,null,null,null,null,{"$f":"IF(H19<>\"\",H19&\":\"&I19,\"\")","v":""}]
[null,"４区",4.74,null,null,null,null,null,null,{"$f":"IF(H20<>\"\",H20&\":\"&I20,\"\")","v":""}]
[null,"５区",4.74,null,null,null,null,null,null,{"$f":"IF(H21<>\"\",H21&\":\"&I21,\"\")","v":""}]
[null,null,null,null,null,null,null,null,null,{"$f":"60*SUM(H17:H21)+SUM(I17:I21)","v":0}]
[null,"区間計",{"$f":"SUM(C17:C21)","v":23.700000000000003},null,null,null,{"$f":"IF(G17=\"\",\"\",SUM(G17:G21))","v":""},null,null,{"$f":"IF($H$17=\"\",\"\",INT(INT($J$22/3600))&\":\"&INT(($J$22-(INT($J$22/3600))*3600)/60)&\":\"&($J$22-(INT($J$22/3600))*3600)-(INT(($J$22-(INT($J$22/3600))*3600)/60))*60)","v":""}]
[null,null,null,null,null,null,null,null,null,null,null,null,"No","チーム名","氏名","Y1","宣言ﾀｲﾑ","氏名","Y2","宣言ﾀｲﾑ","氏名","Y3","宣言ﾀｲﾑ","氏名","Y4","宣言ﾀｲﾑ","氏名","Y5","宣言ﾀｲﾑ",null,"No","チーム名","代表者名","住所","電話","e-mail","s1","s2","s3","s4","s5"]
[null,"　チーム名",null,null,null,null,null,null,null,null,null,null,{"$f":"K25","v":0},{"$f":"D25","v":0},{"$f":"D29","v":0},{"$f":"G29","v":0},{"$f":"H29*100+I29","v":0},{"$f":"D30","v":0},{"$f":"G30","v":0},{"$f":"H30*100+I30","v":0},{"$f":"D31","v":0},{"$f":"G31","v":0},{"$f":"H31*100+I31","v":0},{"$f":"D32","v":0},{"$f":"G32","v":0},{"$f":"H32*100+I32","v":0},{"$f":"D33","v":0},{"$f":"G33","v":0},{"$f":"H33*100+I33","v":0},null,{"$f":"C25","v":0},{"$f":"D25","v":0},{"$f":"$D$7","v":0},{"$f":"$D$8","v":0},{"$f":"$D$9","v":0},{"$f":"$F$7","v":0},{"$f":"F29","v":0},{"$f":"F30","v":0},{"$f":"F31","v":0},{"$f":"F32","v":0},{"$f":"F33","v":0}]
[null,"区間","距離","選手名","選手名","性別","年齢","宣言ﾀｲﾑ",null,"（宣言ﾀｲﾑ）","ﾁｰﾑNo\n(主催者用)"]
[null,null,"Km","（漢字）","（フリガナ or ふりがな）","男/女","歳","分","秒"]
[null,null,null,"漢字で入力","手動で入力ください",null,"半角数値で入力"]
[null,"１区",7.11,null,null,null,null,null,null,{"$f":"IF(H29<>\"\",H29&\":\"&I29,\"\")","v":""}]
[null,"２区",4.74,null,null,null,null,null,null,{"$f":"IF(H30<>\"\",H30&\":\"&I30,\"\")","v":""}]
[null,"３区",2.37,null,null,null,null,null,null,{"$f":"IF(H31<>\"\",H31&\":\"&I31,\"\")","v":""}]
[null,"４区",4.74,null,null,null,null,null,null,{"$f":"IF(H32<>\"\",H32&\":\"&I32,\"\")","v":""}]
[null,"５区",4.74,null,null,null,null,null,null,{"$f":"IF(H33<>\"\",H33&\":\"&I33,\"\")","v":""}]
[null,null,null,null,null,null,null,null,null,{"$f":"60*SUM(H29:H33)+SUM(I29:I33)","v":0}]
[null,"区間計",{"$f":"SUM(C29:C33)","v":23.700000000000003},null,null,null,{"$f":"IF(G29=\"\",\"\",SUM(G29:G33))","v":""},null,null,{"$f":"IF(H29=\"\",\"\",INT(INT($J$34/3600))&\":\"&INT(($J$34-(INT($J$34/3600))*3600)/60)&\":\"&($J$34-(INT($J$34/3600))*3600)-(INT(($J$34-(INT($J$34/3600))*3600)/60))*60)","v":""}]
[null,null,null,null,null,null,null,null,null,null,null,null,"No","チーム名","氏名","Y1","宣言ﾀｲﾑ","氏名","Y2","宣言ﾀｲﾑ","氏名","Y3","宣言ﾀｲﾑ","氏名","Y4","宣言ﾀｲﾑ","氏名","Y5","宣言ﾀｲﾑ",null,"No","チーム名","代表者名","住所","電話","e-mail","s1","s2","s3","s4","s5"]
[]
[]
[null,"変更日"]
[null,"変更回数"]
[null,"　チーム名",null,{"$f":"IF(team1=\"\",\"\",team1)","v":""},null,null,null,null,null,null,null,null,{"$f":"K41","v":0},{"$f":"D41","v":""},{"$f":"D45","v":""},{"$f":"G45","v":""},{"$f":"H45*100+I45","v":{"$error":"#VALUE!"}},{"$f":"D46","v":""},{"$f":"G46","v":""},{"$f":"H46*100+I46","v":{"$error":"#VALUE!"}},{"$f":"D47","v":""},{"$f":"G47","v":""},{"$f":"H47*100+I47","v":{"$error":"#VALUE!"}},{"$f":"D48","v":""},{"$f":"G48","v":""},{"$f":"H48*100+I48","v":{"$error":"#VALUE!"}},{"$f":"D49","v":""},{"$f":"G49","v":""},{"$f":"H49*100+I49","v":{"$error":"#VALUE!"}},null,{"$f":"C41","v":0},{"$f":"D41","v":""},{"$f":"$D$7","v":0},{"$f":"$D$8","v":0},{"$f":"$D$9","v":0},{"$f":"$F$7","v":0},{"$f":"F45","v":""},{"$f":"F46","v":""},{"$f":"F47","v":""},{"$f":"F48","v":""},{"$f":"F49","v":""}]
[null,"区間","距離","選手名","選手名","性別","年齢","宣言ﾀｲﾑ",null,"（宣言ﾀｲﾑ）","ﾁｰﾑNo\n(主催者用)"]
[null,null,"Km","（漢字）","（フリガナ or ふりがな）","男/女","歳","分","秒"]
[null,null,null,"漢字で入力","手動で入力ください",null,"半角数値で入力"]
[null,"１区",7.11,{"$f":"IF(変更日=\"\",\"\",IF(D17=\"\",\"\",D17))","v":""},"","","","","",{"$f":"J17","v":""}]
[null,"２区",4.74,"","","","","","",{"$f":"IF(D46=\"\",\"\",IF(H46<>\"\",H46&\":\"&I46,\"\"))","v":""}]
[null,"３区",2.37,"","","","","","",""]
[null,"４区",4.74,"","","","","","",""]
[null,"５区",4.74,"","","","","","",""]
[null,null,null,{"$f":"D22","v":0},null,null,null,null,null,{"$f":"60*SUM(H45:H49)+SUM(I45:I49)","v":0}]
[null,"区間計",{"$f":"SUM(C45:C49)","v":23.700000000000003},null,null,null,{"$f":"IF(G45=\"\",\"\",SUM(G45:G49))","v":""},null,null,{"$f":"IF(H45=\"\",\"\",INT(INT($J$50/3600))&\":\"&INT(($J$50-(INT($J$50/3600))*3600)/60)&\":\"&($J$50-(INT($J$50/3600))*3600)-(INT(($J$50-(INT($J$50/3600))*3600)/60))*60)","v":""}]
[null,null,null,null,null,null,null,null,null,null,null,null,"No","チーム名","氏名","Y1","宣言ﾀｲﾑ","氏名","Y2","宣言ﾀｲﾑ","氏名","Y3","宣言ﾀｲﾑ","氏名","Y4","宣言ﾀｲﾑ","氏名","Y5","宣言ﾀｲﾑ",null,"No","チーム名","代表者名","住所","電話","e-mail","s1","s2","s3","s4","s5"]
[null,"　チーム名",null,{"$f":"IF(team2=\"\",\"\",team2)","v":""},null,null,null,null,null,null,null,null,{"$f":"K53","v":0},{"$f":"D53","v":""},{"$f":"D57","v":""},{"$f":"G57","v":""},{"$f":"H57*100+I57","v":{"$error":"#VALUE!"}},{"$f":"D58","v":""},{"$f":"G58","v":""},{"$f":"H58*100+I58","v":{"$error":"#VALUE!"}},{"$f":"D59","v":""},{"$f":"G59","v":""},{"$f":"H59*100+I59","v":{"$error":"#VALUE!"}},{"$f":"D60","v":""},{"$f":"G60","v":""},{"$f":"H60*100+I60","v":{"$error":"#VALUE!"}},{"$f":"D61","v":""},{"$f":"G61","v":""},{"$f":"H61*100+I61","v":{"$error":"#VALUE!"}},null,{"$f":"C53","v":0},{"$f":"D53","v":""},{"$f":"$D$7","v":0},{"$f":"$D$8","v":0},{"$f":"$D$9","v":0},{"$f":"$F$7","v":0},{"$f":"F57","v":""},{"$f":"F58","v":""},{"$f":"F59","v":""},{"$f":"F60","v":""},{"$f":"F61","v":""}]
[null,"区間","距離","選手名","選手名","性別","年齢","宣言ﾀｲﾑ",null,"（宣言ﾀｲﾑ）","ﾁｰﾑNo\n(主催者用)"]
[null,null,"Km","（漢字）","（フリガナ or ふりがな）","男/女","歳","分","秒"]
[null,null,null,"漢字で入力","手動で入力ください",null,"半角数値で入力"]
[null,"１区",7.11,{"$f":"IF(変更日=\"\",\"\",IF(D29=\"\",\"\",D29))","v":""},"","","","","",{"$f":"IF(H57<>\"\",H57&\":\"&I57,\"\")","v":""}]
[null,"２区",4.74,"","","","","","",{"$f":"IF(H58<>\"\",H58&\":\"&I58,\"\")","v":""}]
[null,"３区",2.37,"","","","","","",{"$f":"IF(H59<>\"\",H59&\":\"&I59,\"\")","v":""}]
[null,"４区",4.74,"","","","","","",{"$f":"IF(H60<>\"\",H60&\":\"&I60,\"\")","v":""}]
[null,"５区",4.74,"","","","","","",{"$f":"IF(H61<>\"\",H61&\":\"&I61,\"\")","v":""}]
[null,null,null,null,null,null,null,null,null,{"$f":"60*SUM(H57:H61)+SUM(I57:I61)","v":0}]
[null,"区間計",{"$f":"SUM(C57:C61)","v":23.700000000000003},null,null,null,{"$f":"IF(G57=\"\",\"\",SUM(G57:G61))","v":""},null,null,{"$f":"IF(H57=\"\",\"\",INT(INT($J$62/3600))&\":\"&INT(($J$62-(INT($J$62/3600))*3600)/60)&\":\"&($J$62-(INT($J$62/3600))*3600)-(INT(($J$62-(INT($J$62/3600))*3600)/60))*60)","v":""}]

{"sheet":"行集約","index":1,"n_rows":47,"n_cols":30,"rows_kept":47,"cut":false,"hidden":true,"merged":[]}
[]
["男"]
["女"]
[]
[]
[]
[]
[]
[]
[null,"No","チーム名","氏名","Y1","宣言ﾀｲﾑ","氏名","Y2","宣言ﾀｲﾑ","氏名","Y3","宣言ﾀｲﾑ","氏名","Y4","宣言ﾀｲﾑ","氏名","Y5","宣言ﾀｲﾑ",null,"No","チーム名","代表者名","住所","電話","e-mail","s1","s2","s3","s4","s5"]
[null,{"$f":"申込書!K13","v":0},{"$f":"team1","v":0},{"$f":"申込書!D17","v":0},{"$f":"申込書!G17","v":0},{"$f":"申込書!H17*100+申込書!I17","v":0},{"$f":"申込書!D18","v":0},{"$f":"申込書!G18","v":0},{"$f":"申込書!H18*100+申込書!I18","v":0},{"$f":"申込書!D19","v":0},{"$f":"申込書!G19","v":0},{"$f":"申込書!H19*100+申込書!I19","v":0},{"$f":"申込書!D20","v":0},{"$f":"申込書!G20","v":0},{"$f":"申込書!H20*100+申込書!I20","v":0},{"$f":"申込書!D21","v":0},{"$f":"申込書!G21","v":0},{"$f":"申込書!H21*100+申込書!I21","v":0},null,{"$f":"申込書!K13","v":0},{"$f":"申込書!$D$13","v":0},{"$f":"申込書!$D$7","v":0},{"$f":"申込書!$D$8","v":0},{"$f":"申込書!$D$9","v":0},{"$f":"申込書!$F$7","v":0},{"$f":"申込書!F17","v":0},{"$f":"申込書!F18","v":0},{"$f":"申込書!F19","v":0},{"$f":"申込書!F20","v":0},{"$f":"申込書!F21","v":0}]
[]
[]
[]
[]
[]
[]
[]
[]
[]
[]
[null,"No","チーム名","氏名","Y1","宣言ﾀｲﾑ","氏名","Y2","宣言ﾀｲﾑ","氏名","Y3","宣言ﾀｲﾑ","氏名","Y4","宣言ﾀｲﾑ","氏名","Y5","宣言ﾀｲﾑ",null,"No","チーム名","代表者名","住所","電話","e-mail","s1","s2","s3","s4","s5"]
[null,{"$f":"申込書!K25","v":0},{"$f":"team2","v":0},{"$f":"申込書!D29","v":0},{"$f":"申込書!G29","v":0},{"$f":"申込書!H29*100+申込書!I29","v":0},{"$f":"申込書!D30","v":0},{"$f":"申込書!G30","v":0},{"$f":"申込書!H30*100+申込書!I30","v":0},{"$f":"申込書!D31","v":0},{"$f":"申込書!G31","v":0},{"$f":"申込書!H31*100+申込書!I31","v":0},{"$f":"申込書!D32","v":0},{"$f":"申込書!G32","v":0},{"$f":"申込書!H32*100+申込書!I32","v":0},{"$f":"申込書!D33","v":0},{"$f":"申込書!G33","v":0},{"$f":"申込書!H33*100+申込書!I33","v":0},null,{"$f":"申込書!K25","v":0},{"$f":"申込書!$D$25","v":0},{"$f":"申込書!$D$7","v":0},{"$f":"申込書!$D$8","v":0},{"$f":"申込書!$D$9","v":0},{"$f":"申込書!$F$7","v":0},{"$f":"申込書!F29","v":0},{"$f":"申込書!F30","v":0},{"$f":"申込書!F31","v":0},{"$f":"申込書!F32","v":0},{"$f":"申込書!F33","v":0}]
[]
[]
[]
[]
[]
[]
[]
[]
[]
[]
[null,"No","チーム名","氏名","Y1","宣言ﾀｲﾑ","氏名","Y2","宣言ﾀｲﾑ","氏名","Y3","宣言ﾀｲﾑ","氏名","Y4","宣言ﾀｲﾑ","氏名","Y5","宣言ﾀｲﾑ",null,"No","チーム名","代表者名","住所","電話","e-mail","s1","s2","s3","s4","s5"]
[null,{"$f":"申込書!K41","v":0},{"$f":"team3","v":""},{"$f":"申込書!D45","v":""},{"$f":"申込書!G45","v":""},{"$f":"申込書!H45*100+申込書!I45","v":{"$error":"#VALUE!"}},{"$f":"申込書!D46","v":""},{"$f":"申込書!G46","v":""},{"$f":"申込書!H46*100+申込書!I46","v":{"$error":"#VALUE!"}},{"$f":"申込書!D47","v":""},{"$f":"申込書!G47","v":""},{"$f":"申込書!H47*100+申込書!I47","v":{"$error":"#VALUE!"}},{"$f":"申込書!D48","v":""},{"$f":"申込書!G48","v":""},{"$f":"申込書!H48*100+申込書!I48","v":{"$error":"#VALUE!"}},{"$f":"申込書!D49","v":""},{"$f":"申込書!G49","v":""},{"$f":"申込書!H49*100+申込書!I49","v":{"$error":"#VALUE!"}},null,{"$f":"申込書!K41","v":0},{"$f":"申込書!$D$41","v":""},{"$f":"申込書!$D$7","v":0},{"$f":"申込書!$D$8","v":0},{"$f":"申込書!$D$9","v":0},{"$f":"申込書!$F$7","v":0},{"$f":"申込書!F45","v":""},{"$f":"申込書!F46","v":""},{"$f":"申込書!F47","v":""},{"$f":"申込書!F48","v":""},{"$f":"申込書!F49","v":""}]
[]
[]
[]
[]
[]
[]
[]
[]
[]
[]
[null,"No","チーム名","氏名","Y1","宣言ﾀｲﾑ","氏名","Y2","宣言ﾀｲﾑ","氏名","Y3","宣言ﾀｲﾑ","氏名","Y4","宣言ﾀｲﾑ","氏名","Y5","宣言ﾀｲﾑ",null,"No","チーム名","代表者名","住所","電話","e-mail","s1","s2","s3","s4","s5"]
[null,{"$f":"申込書!K53","v":0},{"$f":"申込書!D53","v":""},{"$f":"申込書!D57","v":""},{"$f":"申込書!G57","v":""},{"$f":"申込書!H57*100+申込書!I57","v":{"$error":"#VALUE!"}},{"$f":"申込書!D58","v":""},{"$f":"申込書!G58","v":""},{"$f":"申込書!H58*100+申込書!I58","v":{"$error":"#VALUE!"}},{"$f":"申込書!D59","v":""},{"$f":"申込書!G59","v":""},{"$f":"申込書!H59*100+申込書!I59","v":{"$error":"#VALUE!"}},{"$f":"申込書!D60","v":""},{"$f":"申込書!G60","v":""},{"$f":"申込書!H60*100+申込書!I60","v":{"$error":"#VALUE!"}},{"$f":"申込書!D61","v":""},{"$f":"申込書!G61","v":""},{"$f":"申込書!H61*100+申込書!I61","v":{"$error":"#VALUE!"}},null,{"$f":"申込書!K53","v":0},{"$f":"申込書!$D$41","v":""},{"$f":"申込書!$D$7","v":0},{"$f":"申込書!$D$8","v":0},{"$f":"申込書!$D$9","v":0},{"$f":"申込書!$F$7","v":0},{"$f":"申込書!F57","v":""},{"$f":"申込書!F58","v":""},{"$f":"申込書!F59","v":""},{"$f":"申込書!F60","v":""},{"$f":"申込書!F61","v":""}]